BEGIN:VCALENDAR
VERSION:2.0
PRODID:-//hacksw/handcal//NONSGML v1.0//EN
BEGIN:VEVENT
DTSTAMP:20240304T170000Z
DTSTART:20240304T170000Z
DTEND:20240304T170000Z
SUMMARY:Sitzung CDU Kreisvorstand im Rhein-Pfalz-Kreis
END:VEVENT
END:VCALENDAR
