BEGIN:VCALENDAR
VERSION:2.0
PRODID:-//hacksw/handcal//NONSGML v1.0//EN
BEGIN:VEVENT
DTSTAMP:20240512T220000Z
DTSTART:20240512T220000Z
DTEND:20240512T220000Z
SUMMARY:Podiumsdiskussion mit Christine Schneider, MdEP15.05.2024, 
END:VEVENT
END:VCALENDAR
