BEGIN:VCALENDAR
VERSION:2.0
PRODID:-//hacksw/handcal//NONSGML v1.0//EN
BEGIN:VEVENT
DTSTAMP:20240601T220000Z
DTSTART:20240601T220000Z
DTEND:20240601T220000Z
SUMMARY:RÖMERBERG BY RAD-TOUR - Sonntag, 02. Juni 2024 -14:30 Uhr
END:VEVENT
END:VCALENDAR
