BEGIN:VCALENDAR
VERSION:2.0
PRODID:-//hacksw/handcal//NONSGML v1.0//EN
BEGIN:VEVENT
DTSTAMP:20240517T220000Z
DTSTART:20240517T220000Z
DTEND:20240517T220000Z
SUMMARY:Großer Infostand in Dannstadt-Schauernheim, am 18.05. ab 9:00 Uhr 
END:VEVENT
END:VCALENDAR
