BEGIN:VCALENDAR
VERSION:2.0
PRODID:-//hacksw/handcal//NONSGML v1.0//EN
BEGIN:VEVENT
DTSTAMP:20240709T220000Z
DTSTART:20240709T220000Z
DTEND:20240709T220000Z
SUMMARY:Einladung zum JU-Kreistag als Mitgliederversammlung 
END:VEVENT
END:VCALENDAR
