BEGIN:VCALENDAR
VERSION:2.0
PRODID:-//hacksw/handcal//NONSGML v1.0//EN
BEGIN:VEVENT
DTSTAMP:20240715T220000Z
DTSTART:20240715T220000Z
DTEND:20240715T220000Z
SUMMARY:Einladung zur Mitgliederversammlung der Frauenunion
END:VEVENT
END:VCALENDAR
