BEGIN:VCALENDAR
VERSION:2.0
PRODID:-//hacksw/handcal//NONSGML v1.0//EN
BEGIN:VEVENT
DTSTAMP:20240630T220000Z
DTSTART:20240630T220000Z
DTEND:20240630T220000Z
SUMMARY:Einladung zur Sitzung des Kreisvorstandes
END:VEVENT
END:VCALENDAR
