BEGIN:VCALENDAR
VERSION:2.0
PRODID:-//hacksw/handcal//NONSGML v1.0//EN
BEGIN:VEVENT
DTSTAMP:20240817T220000Z
DTSTART:20240817T220000Z
DTEND:20240817T220000Z
SUMMARY:Kreisfamilienfest auf dem Waldfest der CDU – Mutterstadt
END:VEVENT
END:VCALENDAR
