BEGIN:VCALENDAR
VERSION:2.0
PRODID:-//hacksw/handcal//NONSGML v1.0//EN
BEGIN:VEVENT
DTSTAMP:20240901T220000Z
DTSTART:20240901T220000Z
DTEND:20240901T220000Z
SUMMARY:Kreisvorstandssitzung in Römerberg 18.00 Uhr Zehnthaus Römerberg-Berghausen
END:VEVENT
END:VCALENDAR
