BEGIN:VCALENDAR
VERSION:2.0
PRODID:-//hacksw/handcal//NONSGML v1.0//EN
BEGIN:VEVENT
DTSTAMP:20241024T220000Z
DTSTART:20241024T220000Z
DTEND:20241024T220000Z
SUMMARY:Am 25.10.24 Kartoffelessen Limburgerhof mit Joh. Zehfuß
END:VEVENT
END:VCALENDAR
