BEGIN:VCALENDAR
VERSION:2.0
PRODID:-//hacksw/handcal//NONSGML v1.0//EN
BEGIN:VEVENT
DTSTAMP:20240907T220000Z
DTSTART:20240907T220000Z
DTEND:20240907T220000Z
SUMMARY:30. Weißbierfest der CDU, Sonntag 8.Sept, 10Uhr
END:VEVENT
END:VCALENDAR
