BEGIN:VCALENDAR
VERSION:2.0
PRODID:-//hacksw/handcal//NONSGML v1.0//EN
BEGIN:VEVENT
DTSTAMP:20240926T220000Z
DTSTART:20240926T220000Z
DTEND:20240929T220000Z
SUMMARY:CDU lädt zur Maxdorfer Kerwe vom 27.9. bis 30.9.24 ein.
END:VEVENT
END:VCALENDAR
