BEGIN:VCALENDAR
VERSION:2.0
PRODID:-//hacksw/handcal//NONSGML v1.0//EN
BEGIN:VEVENT
DTSTAMP:20240928T220000Z
DTSTART:20240928T220000Z
DTEND:20240928T220000Z
SUMMARY:Einladung zum Frühschoppen mit Weißwurst und Brezn am 29.09.2024, 11:00 Uhr
END:VEVENT
END:VCALENDAR
