BEGIN:VCALENDAR
VERSION:2.0
PRODID:-//hacksw/handcal//NONSGML v1.0//EN
BEGIN:VEVENT
DTSTAMP:20241029T230000Z
DTSTART:20241029T230000Z
DTEND:20241029T230000Z
SUMMARY:Mitgliederversammlung CDU Ortsverbandes Waldsee, 30.10.24, 19:00Uhr
END:VEVENT
END:VCALENDAR
