BEGIN:VCALENDAR
VERSION:2.0
PRODID:-//hacksw/handcal//NONSGML v1.0//EN
BEGIN:VEVENT
DTSTAMP:20241027T230000Z
DTSTART:20241027T230000Z
DTEND:20241027T230000Z
SUMMARY:Mitgliederversammlung CDU Ortsverbandes Heßheim, 28.10.2024, 19:30 Uhr
END:VEVENT
END:VCALENDAR
