BEGIN:VCALENDAR
VERSION:2.0
PRODID:-//hacksw/handcal//NONSGML v1.0//EN
BEGIN:VEVENT
DTSTAMP:20241029T230000Z
DTSTART:20241029T230000Z
DTEND:20241029T230000Z
SUMMARY:Mitgliederversammlung CDU Ortsverbandes Maxdorf, 30.10.2024, 19.00 Uhr
END:VEVENT
END:VCALENDAR
