BEGIN:VCALENDAR
VERSION:2.0
PRODID:-//hacksw/handcal//NONSGML v1.0//EN
BEGIN:VEVENT
DTSTAMP:20241115T230000Z
DTSTART:20241115T230000Z
DTEND:20241115T230000Z
SUMMARY:Einladung zum Schlachtfest des OV Mutterstadt, 16.11.2024, 12-16 Uhr
END:VEVENT
END:VCALENDAR
