BEGIN:VCALENDAR
VERSION:2.0
PRODID:-//hacksw/handcal//NONSGML v1.0//EN
BEGIN:VEVENT
DTSTAMP:20241128T230000Z
DTSTART:20241128T230000Z
DTEND:20241128T230000Z
SUMMARY:Mitgliederversamlung mit der Wahl höherer Gremien am 29.11.2024, 18.30 Uhr
END:VEVENT
END:VCALENDAR
