BEGIN:VCALENDAR
VERSION:2.0
PRODID:-//hacksw/handcal//NONSGML v1.0//EN
BEGIN:VEVENT
DTSTAMP:20241128T230000Z
DTSTART:20241128T230000Z
DTEND:20241128T230000Z
SUMMARY:Teilkreismitgliederversammlung - Aufstellung Bundestagskandidaten 29.11.25
END:VEVENT
END:VCALENDAR
