BEGIN:VCALENDAR
VERSION:2.0
PRODID:-//hacksw/handcal//NONSGML v1.0//EN
BEGIN:VEVENT
DTSTAMP:20250116T230000Z
DTSTART:20250116T230000Z
DTEND:20250116T230000Z
SUMMARY:Mitgliederversammlung CDU Rödersheim-Gronau, Freitag,17.01.2025, 19:00 Uhr
END:VEVENT
END:VCALENDAR
