BEGIN:VCALENDAR
VERSION:2.0
PRODID:-//hacksw/handcal//NONSGML v1.0//EN
BEGIN:VEVENT
DTSTAMP:20250120T230000Z
DTSTART:20250120T230000Z
DTEND:20250120T230000Z
SUMMARY:Mitgliederversammlung CDU Gemeindeverband Dannstadter Höhe, 21.01.25,19 Uhr
END:VEVENT
END:VCALENDAR
