BEGIN:VCALENDAR
VERSION:2.0
PRODID:-//hacksw/handcal//NONSGML v1.0//EN
BEGIN:VEVENT
DTSTAMP:20250215T230000Z
DTSTART:20250215T230000Z
DTEND:20250215T230000Z
SUMMARY:FAMILIEN – SPAGHETTI – ESSEN Sonntag, 16. Februar 2025, CDU Römerberg
END:VEVENT
END:VCALENDAR
