BEGIN:VCALENDAR
VERSION:2.0
PRODID:-//hacksw/handcal//NONSGML v1.0//EN
BEGIN:VEVENT
DTSTAMP:20250318T180000Z
DTSTART:20250318T180000Z
DTEND:20250318T220000Z
SUMMARY:Kreisparteitag CDU RPK, 18.03.2025, in Schifferstadt
END:VEVENT
END:VCALENDAR
