BEGIN:VCALENDAR
VERSION:2.0
PRODID:-//hacksw/handcal//NONSGML v1.0//EN
BEGIN:VEVENT
DTSTAMP:20250617T220000Z
DTSTART:20250617T220000Z
DTEND:20250617T220000Z
SUMMARY:Einladung zur Kreisversammlung der Senioren Union im Rhein-Pfalz-Kreis
END:VEVENT
END:VCALENDAR
