BEGIN:VCALENDAR
VERSION:2.0
PRODID:-//hacksw/handcal//NONSGML v1.0//EN
BEGIN:VEVENT
DTSTAMP:20251215T230000Z
DTSTART:20251215T230000Z
DTEND:20251215T230000Z
SUMMARY:Mitgliederversammlung der CDU Dudenhofen, 16.12.25 - 19:00Uhr
END:VEVENT
END:VCALENDAR
